BEGIN:VCALENDAR
VERSION:2.0
PRODID:-//Kulturnetz Langenhagen - ECPv6.15.20//NONSGML v1.0//EN
CALSCALE:GREGORIAN
METHOD:PUBLISH
X-WR-CALNAME:Kulturnetz Langenhagen
X-ORIGINAL-URL:https://kulturnetz-langenhagen.de
X-WR-CALDESC:Veranstaltungen für Kulturnetz Langenhagen
REFRESH-INTERVAL;VALUE=DURATION:PT1H
X-Robots-Tag:noindex
X-PUBLISHED-TTL:PT1H
BEGIN:VTIMEZONE
TZID:Europe/Berlin
BEGIN:DAYLIGHT
TZOFFSETFROM:+0100
TZOFFSETTO:+0200
TZNAME:CEST
DTSTART:20220327T010000
END:DAYLIGHT
BEGIN:STANDARD
TZOFFSETFROM:+0200
TZOFFSETTO:+0100
TZNAME:CET
DTSTART:20221030T010000
END:STANDARD
BEGIN:DAYLIGHT
TZOFFSETFROM:+0100
TZOFFSETTO:+0200
TZNAME:CEST
DTSTART:20230326T010000
END:DAYLIGHT
BEGIN:STANDARD
TZOFFSETFROM:+0200
TZOFFSETTO:+0100
TZNAME:CET
DTSTART:20231029T010000
END:STANDARD
BEGIN:DAYLIGHT
TZOFFSETFROM:+0100
TZOFFSETTO:+0200
TZNAME:CEST
DTSTART:20240331T010000
END:DAYLIGHT
BEGIN:STANDARD
TZOFFSETFROM:+0200
TZOFFSETTO:+0100
TZNAME:CET
DTSTART:20241027T010000
END:STANDARD
BEGIN:DAYLIGHT
TZOFFSETFROM:+0100
TZOFFSETTO:+0200
TZNAME:CEST
DTSTART:20250330T010000
END:DAYLIGHT
BEGIN:STANDARD
TZOFFSETFROM:+0200
TZOFFSETTO:+0100
TZNAME:CET
DTSTART:20251026T010000
END:STANDARD
BEGIN:DAYLIGHT
TZOFFSETFROM:+0100
TZOFFSETTO:+0200
TZNAME:CEST
DTSTART:20260329T010000
END:DAYLIGHT
BEGIN:STANDARD
TZOFFSETFROM:+0200
TZOFFSETTO:+0100
TZNAME:CET
DTSTART:20261025T010000
END:STANDARD
END:VTIMEZONE
BEGIN:VEVENT
DTSTART;TZID=Europe/Berlin:20250923T180000
DTEND;TZID=Europe/Berlin:20250923T210000
DTSTAMP:20260422T174912
CREATED:20250321T131224Z
LAST-MODIFIED:20250923T084430Z
UID:804-1758650400-1758661200@kulturnetz-langenhagen.de
SUMMARY:Großes Kulturnetztreffen am 23.09.2025
DESCRIPTION:Nachwuchsförderung ist Thema im Kulturnetz  \nWer gestaltet morgen\, was heute mit Herzblut gewachsen ist? Wie gelingt es\, junge Menschen für das Ehrenamt zu begeistern – nicht nur kurzfristig\, sondern mit echter Verbindung zum Verein? Und was braucht es\, damit Engagement für die nächste Generation attraktiv bleibt\, ohne das Profil der Organisation zu verlieren? \nEffektive Nachwuchsförderung ist das zentrale Thema im kommenden Kulturnetztreffen am  23.September 2025 um 18:00 Uhr im Café Monopol. \nDas Kulturnetz und die Freiwilligenagentur Langenhagen laden Vereine\, Verbände  und Initiativen der Kulturlandschaft Langenhagen herzlich dazu ein\, gemeinsam gezielt nach passenden Formen der Nachwuchsgewinnung im Ehrenamt zu suchen. \nMit konkreten Beispielen\, Impulsen und Raum für Austausch entwickeln die Teilnehmenden Ansätze\, die zum eigenen Verein passen – und vielleicht auch neue Wege eröffnen. \nAm Ende des Treffens ist wie immer Zeit und Raum für Netzwerken. \n  \nAnmeldung und weitere Infos unter: info@kulturnetz-langenhagen.de
URL:https://kulturnetz-langenhagen.de/termin/grosses-kulturnetztreffen-am-23-09-2025/
LOCATION:Monopol\, Langenforther Platz 1\, Langenhagen\, 30851
END:VEVENT
BEGIN:VEVENT
DTSTART;TZID=Europe/Berlin:20250303T180000
DTEND;TZID=Europe/Berlin:20250303T220000
DTSTAMP:20260422T174912
CREATED:20250321T131041Z
LAST-MODIFIED:20250321T131041Z
UID:801-1741024800-1741039200@kulturnetz-langenhagen.de
SUMMARY:Großes Kulturnetztreffen 03.03.2025
DESCRIPTION:Liebe Kulturnetzwerkende\, \ndie Tage werden wieder länger\, der Winterblues ist vorbei und die neu gewonnene Energie wollen wir nutzen\, um mit euch ins Planen zu kommen. \nWir laden euch herzlich zum nächsten Kulturnetztreffen ein: \n03.03.2025 um 18:00 Uhr im Café Monopol | Langenforther Platz 1\, 30851 Langenhagen \nNachdem wir beim letzten Treffen der Frage auf den Grund gegangen sind\, ob wir eine gemeinsame Veranstaltung im Rahmen des Kulturnetzes planen wollen und wie die Umsetzung aussehen könnte\, wollen wir nun ins konkrete Arbeiten kommen. \nAm 03.03.2025 ist Freude\, Ideenreichtum und Engagement von euch gefragt! \nDer geplante Ablauf im Überblick:\n-Begrüßung\n– Check-in: Vorstellungsrunde\, Was ist in den kommenden 12 Monaten bei euch geplant und welche „Bauchschmerzen“ plagen euch dabei\n– Workshop-Phase\n– Networking \nWas gibt es noch an dem Abend?\n– Tolle Gespräche mit engagierten Menschen\n– Sammlung von Themenwünschen\n– Support Anmeldung auf der Kulturnetzseite\, um die Synergien auch nutzen zu können \n  \nDamit wir planen können\, bitten wir um eure Rückmeldung zur Teilnahme bis zum 24.02.2025 unter info@kulturnetz-langenhagen.de.
URL:https://kulturnetz-langenhagen.de/termin/grosses-kulturnetztreffen-03-03-2025/
LOCATION:Monopol\, Langenforther Platz 1\, Langenhagen\, 30851
END:VEVENT
BEGIN:VEVENT
DTSTART;TZID=Europe/Berlin:20240905T180000
DTEND;TZID=Europe/Berlin:20240905T220000
DTSTAMP:20260422T174912
CREATED:20240702T082026Z
LAST-MODIFIED:20240702T082026Z
UID:567-1725559200-1725573600@kulturnetz-langenhagen.de
SUMMARY:Kulturnetztreffen 05.09.2024
DESCRIPTION:
URL:https://kulturnetz-langenhagen.de/termin/kulturnetztreffen-05-09-2024/
LOCATION:Monopol\, Langenforther Platz 1\, Langenhagen\, 30851
END:VEVENT
BEGIN:VEVENT
DTSTART;TZID=Europe/Berlin:20240118T180000
DTEND;TZID=Europe/Berlin:20240118T220000
DTSTAMP:20260422T174912
CREATED:20231024T112301Z
LAST-MODIFIED:20240111T181801Z
UID:523-1705600800-1705615200@kulturnetz-langenhagen.de
SUMMARY:Kulturnetztreffen
DESCRIPTION:Liebe Kulturnetzwerkende\,\nden Aufschwung des neuen Jahres nutzend\, möchten wir euch hiermit zum ersten Kulturnetztreffen im neuen Jahr 2024 einladen: \n18.01.2024 um 18:00 Uhr\nim Monopol | Langenforther Platz 1\, 30851 Langenhagen \nThemenschwerpunkt unseres Netzwerktreffens sind neben Vernetzen und Kennenlernen auch die Vorstellung eines Datenbanktools. Mit diesem möchten wir gerne Materialien und Räume miteinander teilen.\nDa das Kulturnetz auch als Plattform zum Wissenstransfer dienen soll\, möchten wir nach und nach mit der Hilfe aller Netzwerkenden eine Wissensdatenbank aufbauen\, die Hilfestellungen für grundlegende Fragen zu Fördermitteln\, Versicherungen und zum Ablauf einer Veranstaltung bietet. \nAn Thementischen werden wir hierzu in kleinen Gruppen eure Erfahrungen und Ideen sammeln. \nDer geplante Ablauf im Überblick: \n\nBegrüßung\nCheck-in: Vorstellungsrunde in 90 Sekunden pro Netzwerkendem\nVorstellung Datenbanktool\nThementische (Fördermittel\, Versicherungen\, Checkliste Event)\nNetworking / Open End\n\nWeiterhin möchten wir gerne Steckbriefe von allen Netzwerkenden sammeln und dann den anderen im Netzwerk zur Verfügung stellen – euer Einverständnis natürlich vorausgesetzt! Dafür findet ihr anbei die Vorlage und eine Einverständniserklärung zum Datenschutz – bringt sie gerne ausgefüllt mit oder schickt sie uns per E-Mail an: info@kulturnetz-langenhagen.de. \nVor Ort beim Treffen habt ihr Gelegenheit\, Fotos für euren Steckbrief zu machen. \nDamit wir planen können\, bitten wir um eure Rückmeldung zur Teilnahme bis zum 05.01.2024 unter info@kulturnetz-langenhagen.de.\nWir freuen uns auf euch! \nBleibt gesund und vernetzt!\nEuer Kulturnetz Langenhagen
URL:https://kulturnetz-langenhagen.de/termin/kulturnetztreffen/
LOCATION:Monopol\, Langenforther Platz 1\, Langenhagen\, 30851
END:VEVENT
BEGIN:VEVENT
DTSTART;TZID=Europe/Berlin:20230905T180000
DTEND;TZID=Europe/Berlin:20230905T180000
DTSTAMP:20260422T174912
CREATED:20230817T094848Z
LAST-MODIFIED:20231024T112353Z
UID:252-1693936800-1693936800@kulturnetz-langenhagen.de
SUMMARY:Kulturnetztreffen - Speednetworking
DESCRIPTION:Liebe Kulturnetzwerkende\, \nwie bereits angekündigt\, möchten wir das Kulturnetz in 2023 wieder mit Leben füllen und uns gerne mit euch treffen …und das zum allerersten Mal in Präsenz! \nHiermit laden wir euch recht herzlich ein:\n05.09.2023 um 18:00 Uhr\nim Monopol | Langenforther Platz 1\, 30851 Langenhagen \nUnter dem Motto „Speed-Networking“ möchten wir das Augenmerk unseres ersten Treffens auf das Kennenlernen der Netzwerkenden legen. Hierzu haben wir einen kleinen Aktionsrahmen gestaltet: 5 Tische | 5 Gesprächsthemen | 3 Runden\nWie bei einem Speed-Dating möchten wir so die Möglichkeit schaffen\, in einem kleinem Zeitfenster so viele Kultur-Netzwerkende wie möglich miteinander zu vernetzen. \nDer geplante Ablauf im Überblick: \n\nBegrüßung\nWas bisher geschah\nCheck-in: Vorstellungsrunde in 90 Sekunden pro Netzwerkendem\nSpeed-Networking – 5 Tische | 5 Themen | 3 Runden\nFreie Networking-Zeit\n\nAußerdem würden wir gerne Steckbriefe von allen Netzwerkenden sammeln und dann den anderen im Netzwerk zur Verfügung stellen – euer Einverständnis natürlich vorausgesetzt! Dafür findet ihr hier schon einmal die Vorlage und eine Einverständniserklärung zum Datenschutz – bringt sie gerne ausgefüllt mit oder schickt sie uns per E-Mail an: info@kulturnetz-langenhagen.de.\nVor Ort beim Treffen habt ihr Gelegenheit\, Fotos für euren Steckbrief zu machen. \nDamit wir planen können\, bitten wir um eure Rückmeldung zur Teilnahme bis zum 31.08.2023 unter info@kulturnetz-langenhagen.de. \nWir freuen uns auf euch! \nBleibt gesund und vernetzt!\nEuer Kulturnetz Langenhagen
URL:https://kulturnetz-langenhagen.de/termin/kulturnetztreffen-speednetworking/
LOCATION:Monopol\, Langenforther Platz 1\, Langenhagen\, 30851
END:VEVENT
END:VCALENDAR